BEGIN:VCALENDAR
PRODID:-//eluceo/ical//2.0/EN
VERSION:2.0
CALSCALE:GREGORIAN
BEGIN:VEVENT
UID:5bf8f3d650f6ce55d1dcc4aaf9057baa
DTSTAMP:20260424T213313Z
SUMMARY:Ballade des Coteaux/Bar à Champagne
DESCRIPTION:Sprekers: Contact : Louis Crespin. 0477/483015
URL:https://esneux-aywaille.rotary2160.org/nl/agenda/show/832
DTSTART;TZID=Europe/Zurich:20141004T190000
DTEND;TZID=Europe/Zurich:20141004T190000
LOCATION:Rue des Mineurs\, 13 4000 Liège
CATEGORIES:Rotary
END:VEVENT
BEGIN:VTIMEZONE
TZID:Europe/Zurich
BEGIN:DAYLIGHT
DTSTART:20141004T190000
TZNAME:CEST
TZOFFSETTO:+0200
TZOFFSETFROM:+0200
END:DAYLIGHT
END:VTIMEZONE
END:VCALENDAR
